BEGIN:VCALENDAR
VERSION:2.0
PRODID:-//ExpressionEngine Easy iCalendar plugin//NONSGML v2.0.0//EN
X-WR-TIMEZONE:America/Chicago
X-WR-CALNAME:Upcoming Auctions
BEGIN:VEVENT
UID:115834
DTSTAMP:20240315T090000
DTSTART:20240315T090000
DTEND:20240319T150000
SUMMARY:Harvey Single Family
LOCATION:{location}
DESCRIPTION:3857 S. Deerwood Drive\, Harvey\, LA 70058
URL:https://www.svngilmoreauction.com/auctions/detail/bw115834
SEQUENCE:1
END:VEVENT
END:VCALENDAR