BEGIN:VCALENDAR
VERSION:2.0
PRODID:-//ExpressionEngine Easy iCalendar plugin//NONSGML v2.0.0//EN
X-WR-TIMEZONE:America/Chicago
X-WR-CALNAME:Upcoming Auctions
BEGIN:VEVENT
UID:151766
DTSTAMP:20251204T090000
DTSTART:20251204T090000
DTEND:20251209T150000
SUMMARY:ABITA SPRINGS HOME
LOCATION:{location}
DESCRIPTION:70316 Fuchsia Street\, Abita Springs\, LA 70420
URL:https://www.svngilmoreauction.com/auctions/detail/bw151766
SEQUENCE:1
END:VEVENT
END:VCALENDAR