BEGIN:VCALENDAR
VERSION:2.0
PRODID:-//ExpressionEngine Easy iCalendar plugin//NONSGML v2.0.1//EN
X-WR-TIMEZONE:America/Denver
X-WR-CALNAME:Upcoming Auctions
BEGIN:VEVENT
UID:85296
DTSTAMP:20220818T090000
DTSTART:20220818T090000
DTEND:20220823T180000
SUMMARY:Archdiocese of Santa Fe Phase 3 Auction
LOCATION:{location}
DESCRIPTION:"Roman Catholic Church of the Archdiocese of Santa Fe\, A Ne
 w Mexico Corp." PHASE 3 FINAL AUCTION
URL:https://www.svngilmoreauction.com/auctions/detail/bw85296
SEQUENCE:1
END:VEVENT
END:VCALENDAR